BEGIN:VCALENDAR
VERSION:2.0
PRODID:-//Library Market//iCal Export//EN
BEGIN:VEVENT
SUMMARY:On Their Own and OK: Presented by Iowa State Extension and Outreac
 h
UID:10385
DTSTAMP:20260421T065900Z
DTSTART:20260502T143000Z
DTEND:20260502T203000Z
LOCATION:450 Fifth Avenue SE, Cedar Rapids, IA 52401, United States
ROOM: Children&#039;s Program Room
DESCRIPTION:Registration is required - please register at https://form.jot
 form.com/260616145891157On Their Own &amp; OK builds skills in youth, and 
 incorporates ways for adults in the home to support this step towards inde
 pendence. Youth can develop their self-care skills to make good decisions 
 while staying home alone. With adequate education from parents, teachers, 
 and community partners, young people can develop confidence in the skills 
 they need for staying home alone safely.On Their Own &amp; OK reinforces h
 ow to act in an emergency, helps young people handle boredom without techn
 ology, recommends age-appropriate chores, and includes plans for a family 
 celebration to continue to strengthen family relationships. 
URL:https://www.crlibrary.org/event/their-own-and-ok-presented-iowa-state-
 extension-and-outreach-10385
END:VEVENT
END:VCALENDAR
